BEGIN:VCALENDAR
VERSION:2.0
PRODID:-//proAKKORDeon e.V. - ECPv6.15.20//NONSGML v1.0//EN
CALSCALE:GREGORIAN
METHOD:PUBLISH
X-WR-CALNAME:proAKKORDeon e.V.
X-ORIGINAL-URL:https://www.proakkordeon.de
X-WR-CALDESC:Veranstaltungen für proAKKORDeon e.V.
REFRESH-INTERVAL;VALUE=DURATION:PT1H
X-Robots-Tag:noindex
X-PUBLISHED-TTL:PT1H
BEGIN:VTIMEZONE
TZID:Europe/Berlin
BEGIN:DAYLIGHT
TZOFFSETFROM:+0100
TZOFFSETTO:+0200
TZNAME:CEST
DTSTART:20250330T010000
END:DAYLIGHT
BEGIN:STANDARD
TZOFFSETFROM:+0200
TZOFFSETTO:+0100
TZNAME:CET
DTSTART:20251026T010000
END:STANDARD
BEGIN:DAYLIGHT
TZOFFSETFROM:+0100
TZOFFSETTO:+0200
TZNAME:CEST
DTSTART:20260329T010000
END:DAYLIGHT
BEGIN:STANDARD
TZOFFSETFROM:+0200
TZOFFSETTO:+0100
TZNAME:CET
DTSTART:20261025T010000
END:STANDARD
BEGIN:DAYLIGHT
TZOFFSETFROM:+0100
TZOFFSETTO:+0200
TZNAME:CEST
DTSTART:20270328T010000
END:DAYLIGHT
BEGIN:STANDARD
TZOFFSETFROM:+0200
TZOFFSETTO:+0100
TZNAME:CET
DTSTART:20271031T010000
END:STANDARD
END:VTIMEZONE
BEGIN:VEVENT
DTSTART;TZID=Europe/Berlin:20260204T193000
DTEND;TZID=Europe/Berlin:20260204T210000
DTSTAMP:20260425T210351
CREATED:20251221T075744Z
LAST-MODIFIED:20251221T075952Z
UID:833-1770233400-1770238800@www.proakkordeon.de
SUMMARY:Mitgliederversammlung 2026
DESCRIPTION:Am Mittwoch\, den 4. Februar 2026 um 19.30 Uhr findet die MGV im Dorfgemeinschaftshaus Rommersheim\, Gartenstraße 9\, statt.
URL:https://www.proakkordeon.de/veranstaltung/mitgliederversammlung-2026/
END:VEVENT
END:VCALENDAR